BEGIN:VCALENDAR
VERSION:2.0
PRODID:-//Interessengemeinschaft de Hooksieler - ECPv6.15.20//NONSGML v1.0//EN
CALSCALE:GREGORIAN
METHOD:PUBLISH
X-WR-CALNAME:Interessengemeinschaft de Hooksieler
X-ORIGINAL-URL:https://www.de-hooksieler.de
X-WR-CALDESC:Veranstaltungen für Interessengemeinschaft de Hooksieler
REFRESH-INTERVAL;VALUE=DURATION:PT1H
X-Robots-Tag:noindex
X-PUBLISHED-TTL:PT1H
BEGIN:VTIMEZONE
TZID:Europe/Berlin
BEGIN:DAYLIGHT
TZOFFSETFROM:+0100
TZOFFSETTO:+0200
TZNAME:CEST
DTSTART:20250330T010000
END:DAYLIGHT
BEGIN:STANDARD
TZOFFSETFROM:+0200
TZOFFSETTO:+0100
TZNAME:CET
DTSTART:20251026T010000
END:STANDARD
BEGIN:DAYLIGHT
TZOFFSETFROM:+0100
TZOFFSETTO:+0200
TZNAME:CEST
DTSTART:20260329T010000
END:DAYLIGHT
BEGIN:STANDARD
TZOFFSETFROM:+0200
TZOFFSETTO:+0100
TZNAME:CET
DTSTART:20261025T010000
END:STANDARD
BEGIN:DAYLIGHT
TZOFFSETFROM:+0100
TZOFFSETTO:+0200
TZNAME:CEST
DTSTART:20270328T010000
END:DAYLIGHT
BEGIN:STANDARD
TZOFFSETFROM:+0200
TZOFFSETTO:+0100
TZNAME:CET
DTSTART:20271031T010000
END:STANDARD
END:VTIMEZONE
BEGIN:VEVENT
DTSTART;TZID=Europe/Berlin:20260721T143000
DTEND;TZID=Europe/Berlin:20260721T173000
DTSTAMP:20260422T073717
CREATED:20250721T171542Z
LAST-MODIFIED:20260307T173925Z
UID:262-1784644200-1784655000@www.de-hooksieler.de
SUMMARY:Spielefest im Garten der Generationen in Hooksiel – Ein Tag voller Lachen für die ganze Familie! 🎉🌳
DESCRIPTION:Liebe Familien\, Spiele-Fans und alle\, die Lust auf einen tollen Tag haben! \nDie Tradition geht weiter! Freu dich schon jetzt auf unser großes Spielefest im Garten der Generationen in Hooksiel\, das wir für Dienstag\, den 21. Juli 2026\, erneut planen. \nFreu dich auf ein abwechslungsreiches und buntes Programm\, das keine Langeweile aufkommen lässt! Dich erwartet wieder: \n\nEine riesige Hüpfburg zum Austoben und Spaß haben!\nSpannende Outdoor-Spiele für die ganze Familie (von Klein bis Groß)!\nKreative Bastelstationen\, an denen tolle Erinnerungsstücke entstehen!\n… und viele weitere Überraschungen warten auf dich!\n\nEgal ob jung oder jung geblieben – hier ist für jeden etwas dabei! Verbringe einen unvergesslichen Tag mit viel Spaß\, Bewegung und guter Laune in Hooksiel. \nWir freuen uns auf dich und einen fantastischen Spiele-Tag!
URL:https://www.de-hooksieler.de/event/spielefest-im-garten-der-generationen-hooksiel/
LOCATION:Garten der Generationen\, Nee Straat\, Hooksiel\, 26434
ATTACH;FMTTYPE=image/jpeg:https://www.de-hooksieler.de/wp-content/uploads/2025/07/20190723_151031-e1773487584472.jpg
END:VEVENT
BEGIN:VEVENT
DTSTART;TZID=Europe/Berlin:20261010T120000
DTEND;TZID=Europe/Berlin:20261010T210000
DTSTAMP:20260422T073717
CREATED:20251010T100017Z
LAST-MODIFIED:20260314T091105Z
UID:826-1791633600-1791666000@www.de-hooksieler.de
SUMMARY:15. Hooksieler Herbstleuchten
DESCRIPTION:Der Verein „De Hooksieler“ lädt auch im Jahr 2026\, am Samstag den 10. Oktober zum bereits „15. Hooksieler Herbstleuchten“ am Alten Hafen ein. \nDie Planungen laufen auf Hochtouren. Sobald es Einzelheiten dazu gibt\, werden wir sie hier veröffentlichen. Seid gespannt. \nEs gibt ein Unterhaltungsprogramm für jung und alt\, mit Bratwurst und Kulinarischem rund um den Apfel. Kunsthandwerker und Marktstände bieten Ihre Waren an. \nBei einsetzender Dunkelheit wird der Alte Hafen stimmungsvoll illuminiert. \nWir freuen uns auf zahlreiche Besucher.
URL:https://www.de-hooksieler.de/event/in-planung-15-hooksieler-herbstleuchten/
ATTACH;FMTTYPE=image/jpeg:https://www.de-hooksieler.de/wp-content/uploads/2025/10/herbstleuchten-2025-10-KursNordWest.jpg
END:VEVENT
BEGIN:VEVENT
DTSTART;TZID=Europe/Berlin:20261107T190000
DTEND;TZID=Europe/Berlin:20261108T010000
DTSTAMP:20260422T073717
CREATED:20251107T180030Z
LAST-MODIFIED:20260314T091029Z
UID:1831-1794078000-1794099600@www.de-hooksieler.de
SUMMARY:2. Hooksiel tanzt - die Fortsetzung!
DESCRIPTION:​Euer Wunsch ist uns Befehl! Hooksiel tanzt – Die Fortsetzung! \n​Nach dem großartigen Erfolg ist die Entscheidung gefallen: Wir starten in die nächste Runde! Am Samstag\, den 7  November 2026\, heißt es wieder: „Hooksiel tanzt“. \n​Wir sind total überwältigt von eurer Resonanz und gehen voller Vorfreude und Elan in die Vorbereitungen. \n​Merkt euch dieses Datum unbedingt vor! Wir können es kaum erwarten\, euch alle wieder auf der Tanzfläche zu sehen.
URL:https://www.de-hooksieler.de/event/2-hooksiel-tanzt/
LOCATION:Eventhalle Langenhorst\, Berghamm 3\, Hooksiel\, 26434\, Germany
ATTACH;FMTTYPE=image/jpeg:https://www.de-hooksieler.de/wp-content/uploads/2025/11/20250904_153157.jpg
END:VEVENT
END:VCALENDAR