BEGIN:VCALENDAR
VERSION:2.0
PRODID:-//Interessengemeinschaft de Hooksieler - ECPv6.15.20//NONSGML v1.0//EN
CALSCALE:GREGORIAN
METHOD:PUBLISH
X-WR-CALNAME:Interessengemeinschaft de Hooksieler
X-ORIGINAL-URL:https://www.de-hooksieler.de
X-WR-CALDESC:Veranstaltungen für Interessengemeinschaft de Hooksieler
REFRESH-INTERVAL;VALUE=DURATION:PT1H
X-Robots-Tag:noindex
X-PUBLISHED-TTL:PT1H
BEGIN:VTIMEZONE
TZID:Europe/Berlin
BEGIN:DAYLIGHT
TZOFFSETFROM:+0100
TZOFFSETTO:+0200
TZNAME:CEST
DTSTART:20250330T010000
END:DAYLIGHT
BEGIN:STANDARD
TZOFFSETFROM:+0200
TZOFFSETTO:+0100
TZNAME:CET
DTSTART:20251026T010000
END:STANDARD
BEGIN:DAYLIGHT
TZOFFSETFROM:+0100
TZOFFSETTO:+0200
TZNAME:CEST
DTSTART:20260329T010000
END:DAYLIGHT
BEGIN:STANDARD
TZOFFSETFROM:+0200
TZOFFSETTO:+0100
TZNAME:CET
DTSTART:20261025T010000
END:STANDARD
BEGIN:DAYLIGHT
TZOFFSETFROM:+0100
TZOFFSETTO:+0200
TZNAME:CEST
DTSTART:20270328T010000
END:DAYLIGHT
BEGIN:STANDARD
TZOFFSETFROM:+0200
TZOFFSETTO:+0100
TZNAME:CET
DTSTART:20271031T010000
END:STANDARD
END:VTIMEZONE
BEGIN:VEVENT
DTSTART;TZID=Europe/Berlin:20261010T120000
DTEND;TZID=Europe/Berlin:20261010T210000
DTSTAMP:20260422T183044
CREATED:20251010T100017Z
LAST-MODIFIED:20260314T091105Z
UID:826-1791633600-1791666000@www.de-hooksieler.de
SUMMARY:15. Hooksieler Herbstleuchten
DESCRIPTION:Der Verein „De Hooksieler“ lädt auch im Jahr 2026\, am Samstag den 10. Oktober zum bereits „15. Hooksieler Herbstleuchten“ am Alten Hafen ein. \nDie Planungen laufen auf Hochtouren. Sobald es Einzelheiten dazu gibt\, werden wir sie hier veröffentlichen. Seid gespannt. \nEs gibt ein Unterhaltungsprogramm für jung und alt\, mit Bratwurst und Kulinarischem rund um den Apfel. Kunsthandwerker und Marktstände bieten Ihre Waren an. \nBei einsetzender Dunkelheit wird der Alte Hafen stimmungsvoll illuminiert. \nWir freuen uns auf zahlreiche Besucher.
URL:https://www.de-hooksieler.de/event/in-planung-15-hooksieler-herbstleuchten/
ATTACH;FMTTYPE=image/jpeg:https://www.de-hooksieler.de/wp-content/uploads/2025/10/herbstleuchten-2025-10-KursNordWest.jpg
END:VEVENT
END:VCALENDAR